BEGIN:VCALENDAR
VERSION:2.0
PRODID:-//Eglise Protestante Unie Clamart Issy Les Moulineaux Meudon - ECPv5.3.1.1//NONSGML v1.0//EN
CALSCALE:GREGORIAN
METHOD:PUBLISH
X-WR-CALNAME:Eglise Protestante Unie Clamart Issy Les Moulineaux Meudon
X-ORIGINAL-URL:https://epu-cim.fr
X-WR-CALDESC:évènements pour Eglise Protestante Unie Clamart Issy Les Moulineaux Meudon
BEGIN:VTIMEZONE
TZID:Europe/Paris
BEGIN:DAYLIGHT
TZOFFSETFROM:+0100
TZOFFSETTO:+0200
TZNAME:CEST
DTSTART:20250330T010000
END:DAYLIGHT
BEGIN:STANDARD
TZOFFSETFROM:+0200
TZOFFSETTO:+0100
TZNAME:CET
DTSTART:20251026T010000
END:STANDARD
END:VTIMEZONE
BEGIN:VEVENT
DTSTART;TZID=Europe/Paris:20251129T100000
DTEND;TZID=Europe/Paris:20251129T170000
DTSTAMP:20260425T122517
CREATED:20250919T114226Z
LAST-MODIFIED:20250919T204425Z
UID:7514-1764410400-1764435600@epu-cim.fr
SUMMARY:Journée de ventre-rencontre de l'automne
DESCRIPTION:10h – 18h\nVenez nombreux à la Fraternité\, chiner\, déguster\, rigoler\, jouer à la tombola… \nLes bénéfices seront partagés entre la paroisse et la Fraternité.\nL’entretien du bâtiment et d’autres travaux importants\, comme la réfection de la toiture\, se\nprofilent à l’horizon…\nAlors faisons tous le maximum pour la réussite de « LA VENTE ».\nVenez nombreux !!
URL:https://epu-cim.fr/event/journee-de-ventre-rencontre-de-lautomne/
LOCATION:La Fraternité\, 43 rue du Moulin de Pierre\, CLAMART\, 92140\, France
CATEGORIES:Les Grands Rendez-Vous
END:VEVENT
END:VCALENDAR