BEGIN:VCALENDAR
VERSION:2.0
PRODID:-//Eglise Protestante Unie Clamart Issy Les Moulineaux Meudon - ECPv5.3.1.1//NONSGML v1.0//EN
CALSCALE:GREGORIAN
METHOD:PUBLISH
X-WR-CALNAME:Eglise Protestante Unie Clamart Issy Les Moulineaux Meudon
X-ORIGINAL-URL:https://epu-cim.fr
X-WR-CALDESC:évènements pour Eglise Protestante Unie Clamart Issy Les Moulineaux Meudon
BEGIN:VTIMEZONE
TZID:Europe/Paris
BEGIN:DAYLIGHT
TZOFFSETFROM:+0100
TZOFFSETTO:+0200
TZNAME:CEST
DTSTART:20250330T010000
END:DAYLIGHT
BEGIN:STANDARD
TZOFFSETFROM:+0200
TZOFFSETTO:+0100
TZNAME:CET
DTSTART:20251026T010000
END:STANDARD
END:VTIMEZONE
BEGIN:VEVENT
DTSTART;TZID=Europe/Paris:20251111T083000
DTEND;TZID=Europe/Paris:20251111T093000
DTSTAMP:20260425T122538
CREATED:20251027T093330Z
LAST-MODIFIED:20251027T095658Z
UID:7453-1762849800-1762853400@epu-cim.fr
SUMMARY:Commémoration du 11 novembre
DESCRIPTION:Culte inter-religieux
URL:https://epu-cim.fr/event/commemoration-du-11-novembre/
LOCATION:Établissement Lassalien\, 19 rue Victor Hugo\, Issy-les-Moulineaux
CATEGORIES:Les Grands Rendez-Vous
END:VEVENT
BEGIN:VEVENT
DTSTART;TZID=Europe/Paris:20251111T090000
DTEND;TZID=Europe/Paris:20251111T103000
DTSTAMP:20260425T122538
CREATED:20251027T093448Z
LAST-MODIFIED:20251027T095528Z
UID:7456-1762851600-1762857000@epu-cim.fr
SUMMARY:Commémoration du 11 novembre
DESCRIPTION:Culte oecuménique
URL:https://epu-cim.fr/event/commemoration-du-11-novembre-2/
LOCATION:Eglise Saint Pierre Saint Paul\, 5 Place Ferrari\, CLAMART\, 92140\, France
CATEGORIES:Les Grands Rendez-Vous
END:VEVENT
END:VCALENDAR