BEGIN:VCALENDAR
VERSION:2.0
PRODID:-//Eglise Protestante Unie Clamart Issy Les Moulineaux Meudon - ECPv5.3.1.1//NONSGML v1.0//EN
CALSCALE:GREGORIAN
METHOD:PUBLISH
X-WR-CALNAME:Eglise Protestante Unie Clamart Issy Les Moulineaux Meudon
X-ORIGINAL-URL:https://epu-cim.fr
X-WR-CALDESC:évènements pour Eglise Protestante Unie Clamart Issy Les Moulineaux Meudon
BEGIN:VTIMEZONE
TZID:Europe/Paris
BEGIN:DAYLIGHT
TZOFFSETFROM:+0100
TZOFFSETTO:+0200
TZNAME:CEST
DTSTART:20250330T010000
END:DAYLIGHT
BEGIN:STANDARD
TZOFFSETFROM:+0200
TZOFFSETTO:+0100
TZNAME:CET
DTSTART:20251026T010000
END:STANDARD
END:VTIMEZONE
BEGIN:VEVENT
DTSTART;TZID=Europe/Paris:20250905T130000
DTEND;TZID=Europe/Paris:20250906T180000
DTSTAMP:20260425T154037
CREATED:20250628T160825Z
LAST-MODIFIED:20250629T151238Z
UID:7071-1757077200-1757181600@epu-cim.fr
SUMMARY:Forum de rentrée des associations d'Issy-les-Moulineaux
DESCRIPTION:Le vendredi 5 septembre de 13H à 20H et le samedi 6 septembre de 10H à 18H\, venez nous retrouvez sur notre stand aux forums de rentrée des associations d’Issy-les-Moulineaux\, Palais des sports\, 6 Boulevard des Frères Voisin\, 92130 Issy-les-Moulineaux.
URL:https://epu-cim.fr/event/forum-des-associations-dissy-les-moulineaux/
LOCATION:Palais des sports d’Issy-les-Moulineaux\, 6 boulevard des Frères Voisin\, Issy-les-Moulineaux\, 92130\, France
CATEGORIES:agenda,Les Grands Rendez-Vous
END:VEVENT
BEGIN:VEVENT
DTSTART;TZID=Europe/Paris:20250906T100000
DTEND;TZID=Europe/Paris:20250906T180000
DTSTAMP:20260425T154037
CREATED:20250628T162356Z
LAST-MODIFIED:20250628T163006Z
UID:7068-1757152800-1757181600@epu-cim.fr
SUMMARY:Forum des associations de Clamart
DESCRIPTION:Venez nous retrouvez sur notre stand aux forums des associations de Clamart\, esplanade du Panorama de 10H à 18H.
URL:https://epu-cim.fr/event/forum-des-associations-de-clamart/
LOCATION:Esplanade du Panorama 92140 CLAMART\, Esplanade du Panorama\, Clamart\, France
CATEGORIES:Les Grands Rendez-Vous
END:VEVENT
END:VCALENDAR