BEGIN:VCALENDAR
VERSION:2.0
PRODID:-//Eglise Protestante Unie Clamart Issy Les Moulineaux Meudon - ECPv5.3.1.1//NONSGML v1.0//EN
CALSCALE:GREGORIAN
METHOD:PUBLISH
X-WR-CALNAME:Eglise Protestante Unie Clamart Issy Les Moulineaux Meudon
X-ORIGINAL-URL:https://epu-cim.fr
X-WR-CALDESC:évènements pour Eglise Protestante Unie Clamart Issy Les Moulineaux Meudon
BEGIN:VTIMEZONE
TZID:Europe/Paris
BEGIN:DAYLIGHT
TZOFFSETFROM:+0100
TZOFFSETTO:+0200
TZNAME:CEST
DTSTART:20240331T010000
END:DAYLIGHT
BEGIN:STANDARD
TZOFFSETFROM:+0200
TZOFFSETTO:+0100
TZNAME:CET
DTSTART:20241027T010000
END:STANDARD
END:VTIMEZONE
BEGIN:VEVENT
DTSTART;TZID=Europe/Paris:20240120T141500
DTEND;TZID=Europe/Paris:20240120T173000
DTSTAMP:20260421T115602
CREATED:20240109T173108Z
LAST-MODIFIED:20240109T174653Z
UID:9109-1705760100-1705771800@epu-cim.fr
SUMMARY:Grand après-midi œcuménique des enfants
DESCRIPTION:Le grand après-midi œcuménique des enfants aura lieu cette année à l’église catholique Saint Benoît 35 rue Séverine à Issy-les-Moulineaux. Pour de plus amples informations et pour l’invitation\, clique sur le lien suivant : mon invitation. \n. Plan
URL:https://epu-cim.fr/event/grand-apres-midi-oecumenique-des-enfants/
LOCATION:Eglise Saint Benoît\, 35 Rue Séverine\, Issy-les-Moulineaux\, 92130\, France
CATEGORIES:agenda,Catéchèse,École Biblique,Les Grands Rendez-Vous
END:VEVENT
END:VCALENDAR