BEGIN:VCALENDAR
VERSION:2.0
PRODID:-//Eglise Protestante Unie Clamart Issy Les Moulineaux Meudon - ECPv5.3.1.1//NONSGML v1.0//EN
CALSCALE:GREGORIAN
METHOD:PUBLISH
X-WR-CALNAME:Eglise Protestante Unie Clamart Issy Les Moulineaux Meudon
X-ORIGINAL-URL:https://epu-cim.fr
X-WR-CALDESC:évènements pour Eglise Protestante Unie Clamart Issy Les Moulineaux Meudon
BEGIN:VTIMEZONE
TZID:Europe/Paris
BEGIN:DAYLIGHT
TZOFFSETFROM:+0100
TZOFFSETTO:+0200
TZNAME:CEST
DTSTART:20230326T010000
END:DAYLIGHT
BEGIN:STANDARD
TZOFFSETFROM:+0200
TZOFFSETTO:+0100
TZNAME:CET
DTSTART:20231029T010000
END:STANDARD
END:VTIMEZONE
BEGIN:VEVENT
DTSTART;TZID=Europe/Paris:20230611T103000
DTEND;TZID=Europe/Paris:20230611T120000
DTSTAMP:20260421T224055
CREATED:20221023T171326Z
LAST-MODIFIED:20230419T153807Z
UID:7449-1686479400-1686484800@epu-cim.fr
SUMMARY:École Biblique
DESCRIPTION:L’École Biblique accueille les enfants de 8 à 11 ans pendant le culte (10H30-12H). Le programme pour l’année scolaire 2022-2023 porte sur le « pardon ».
URL:https://epu-cim.fr/event/ecole-biblique-42/
LOCATION:La Fraternité\, 43 rue du Moulin de Pierre\, CLAMART\, 92140\, France
CATEGORIES:agenda,École Biblique
END:VEVENT
END:VCALENDAR