BEGIN:VCALENDAR
VERSION:2.0
PRODID:-//Eglise Protestante Unie Clamart Issy Les Moulineaux Meudon - ECPv5.3.1.1//NONSGML v1.0//EN
CALSCALE:GREGORIAN
METHOD:PUBLISH
X-WR-CALNAME:Eglise Protestante Unie Clamart Issy Les Moulineaux Meudon
X-ORIGINAL-URL:https://epu-cim.fr
X-WR-CALDESC:évènements pour Eglise Protestante Unie Clamart Issy Les Moulineaux Meudon
BEGIN:VTIMEZONE
TZID:Europe/Paris
BEGIN:DAYLIGHT
TZOFFSETFROM:+0100
TZOFFSETTO:+0200
TZNAME:CEST
DTSTART:20230326T010000
END:DAYLIGHT
BEGIN:STANDARD
TZOFFSETFROM:+0200
TZOFFSETTO:+0100
TZNAME:CET
DTSTART:20231029T010000
END:STANDARD
END:VTIMEZONE
BEGIN:VEVENT
DTSTART;TZID=Europe/Paris:20230121T143000
DTEND;TZID=Europe/Paris:20230121T170000
DTSTAMP:20260422T065418
CREATED:20221023T174136Z
LAST-MODIFIED:20230104T204220Z
UID:7458-1674311400-1674320400@epu-cim.fr
SUMMARY:Rallye œcuménique des jeunes
DESCRIPTION:Départ à 14H30 à l’église évangélique arménienne d’Issy-les-Moulineaux 28 avenue Bourgain et arrivée vers 17H00 à l’église Saint Benoît d’Issy-les-Moulineaux 35 rue Séverine.
URL:https://epu-cim.fr/event/rallye-oecumenique-des-jeunes/
CATEGORIES:Catéchèse,École Biblique,KT,Les Grands Rendez-Vous,Pré KT
END:VEVENT
END:VCALENDAR