BEGIN:VCALENDAR
VERSION:2.0
PRODID:-//Eglise Protestante Unie Clamart Issy Les Moulineaux Meudon - ECPv5.3.1.1//NONSGML v1.0//EN
CALSCALE:GREGORIAN
METHOD:PUBLISH
X-WR-CALNAME:Eglise Protestante Unie Clamart Issy Les Moulineaux Meudon
X-ORIGINAL-URL:https://epu-cim.fr
X-WR-CALDESC:évènements pour Eglise Protestante Unie Clamart Issy Les Moulineaux Meudon
BEGIN:VTIMEZONE
TZID:Europe/Paris
BEGIN:DAYLIGHT
TZOFFSETFROM:+0100
TZOFFSETTO:+0200
TZNAME:CEST
DTSTART:20220327T010000
END:DAYLIGHT
BEGIN:STANDARD
TZOFFSETFROM:+0200
TZOFFSETTO:+0100
TZNAME:CET
DTSTART:20221030T010000
END:STANDARD
END:VTIMEZONE
BEGIN:VEVENT
DTSTART;TZID=Europe/Paris:20221016T103000
DTEND;TZID=Europe/Paris:20221016T120000
DTSTAMP:20260424T151207
CREATED:20220904T171821Z
LAST-MODIFIED:20221101T095038Z
UID:7207-1665916200-1665921600@epu-cim.fr
SUMMARY:École Biblique
DESCRIPTION:Le thème retenu cette année est le « pardon ».
URL:https://epu-cim.fr/event/ecole-biblique-30/
LOCATION:La Fraternité\, 43 rue du Moulin de Pierre\, CLAMART\, 92140\, France
CATEGORIES:École Biblique,Eveil a la foi
END:VEVENT
END:VCALENDAR