BEGIN:VCALENDAR
VERSION:2.0
PRODID:-//Eglise Protestante Unie Clamart Issy Les Moulineaux Meudon - ECPv5.3.1.1//NONSGML v1.0//EN
CALSCALE:GREGORIAN
METHOD:PUBLISH
X-WR-CALNAME:Eglise Protestante Unie Clamart Issy Les Moulineaux Meudon
X-ORIGINAL-URL:https://epu-cim.fr
X-WR-CALDESC:évènements pour Eglise Protestante Unie Clamart Issy Les Moulineaux Meudon
BEGIN:VTIMEZONE
TZID:Europe/Paris
BEGIN:DAYLIGHT
TZOFFSETFROM:+0100
TZOFFSETTO:+0200
TZNAME:CEST
DTSTART:20200329T010000
END:DAYLIGHT
BEGIN:STANDARD
TZOFFSETFROM:+0200
TZOFFSETTO:+0100
TZNAME:CET
DTSTART:20201025T010000
END:STANDARD
END:VTIMEZONE
BEGIN:VEVENT
DTSTART;TZID=Europe/Paris:20201122T103000
DTEND;TZID=Europe/Paris:20201122T120000
DTSTAMP:20260426T024832
CREATED:20201002T131147Z
LAST-MODIFIED:20221101T095038Z
UID:5740-1606041000-1606046400@epu-cim.fr
SUMMARY:École Biblique
DESCRIPTION:L’École Biblique accueille les enfants de 8 à 11 ans pendant le culte (10H30-12H)
URL:https://epu-cim.fr/event/ecole-biblique-26/
LOCATION:Temple de Clamart et en ligne\, 43 rue du Moulin de Pierre\, CLAMART\, 92140\, France
CATEGORIES:École Biblique,Eveil a la foi
ATTACH;FMTTYPE=image/jpeg:https://epu-cim.fr/wp-content/uploads/2018/03/ecolebiblique-L500.jpg
END:VEVENT
END:VCALENDAR