BEGIN:VCALENDAR
VERSION:2.0
PRODID:-//Eglise Protestante Unie Clamart Issy Les Moulineaux Meudon - ECPv5.3.1.1//NONSGML v1.0//EN
CALSCALE:GREGORIAN
METHOD:PUBLISH
X-WR-CALNAME:Eglise Protestante Unie Clamart Issy Les Moulineaux Meudon
X-ORIGINAL-URL:https://epu-cim.fr
X-WR-CALDESC:évènements pour Eglise Protestante Unie Clamart Issy Les Moulineaux Meudon
BEGIN:VTIMEZONE
TZID:Europe/Paris
BEGIN:DAYLIGHT
TZOFFSETFROM:+0100
TZOFFSETTO:+0200
TZNAME:CEST
DTSTART:20200329T010000
END:DAYLIGHT
BEGIN:STANDARD
TZOFFSETFROM:+0200
TZOFFSETTO:+0100
TZNAME:CET
DTSTART:20201025T010000
END:STANDARD
END:VTIMEZONE
BEGIN:VEVENT
DTSTART;TZID=Europe/Paris:20200925T190000
DTEND;TZID=Europe/Paris:20200925T203000
DTSTAMP:20260426T061625
CREATED:20200830T092201Z
LAST-MODIFIED:20200830T092318Z
UID:5674-1601060400-1601065800@epu-cim.fr
SUMMARY:Inscriptions Catéchisme
DESCRIPTION:Pour les enfants âgés de 4 à 15 ans\nRéunion d’informations / inscriptions pour les parents\nPrésentation des groupes par les animateurs autour d’un verre et d’un buffet
URL:https://epu-cim.fr/event/catechese-buffet-de-rentree/
LOCATION:Temple d’Issy-les-Moulineaux et en ligne\, 18 rue Marceau\, Issy-les-moulineaux\, 92130\, France
CATEGORIES:After KT,Catéchèse,École Biblique,Eveil a la foi,KT,Les Grands Rendez-Vous,Pré KT
ATTACH;FMTTYPE=image/jpeg:https://epu-cim.fr/wp-content/uploads/2018/05/KT-918X400.jpg
END:VEVENT
END:VCALENDAR