BEGIN:VCALENDAR
VERSION:2.0
PRODID:-//Eglise Protestante Unie Clamart Issy Les Moulineaux Meudon - ECPv5.3.1.1//NONSGML v1.0//EN
CALSCALE:GREGORIAN
METHOD:PUBLISH
X-WR-CALNAME:Eglise Protestante Unie Clamart Issy Les Moulineaux Meudon
X-ORIGINAL-URL:https://epu-cim.fr
X-WR-CALDESC:évènements pour Eglise Protestante Unie Clamart Issy Les Moulineaux Meudon
BEGIN:VTIMEZONE
TZID:Europe/Paris
BEGIN:DAYLIGHT
TZOFFSETFROM:+0100
TZOFFSETTO:+0200
TZNAME:CEST
DTSTART:20260329T010000
END:DAYLIGHT
BEGIN:STANDARD
TZOFFSETFROM:+0200
TZOFFSETTO:+0100
TZNAME:CET
DTSTART:20261025T010000
END:STANDARD
END:VTIMEZONE
BEGIN:VEVENT
DTSTART;TZID=Europe/Paris:20260712T103000
DTEND;TZID=Europe/Paris:20260712T114500
DTSTAMP:20260424T225344
CREATED:20251128T170555Z
LAST-MODIFIED:20251214T141334Z
UID:10494-1783852200-1783856700@epu-cim.fr
SUMMARY:Culte
DESCRIPTION:Le culte sera présidé par le pasteur Amos Ngoua Mouri.
URL:https://epu-cim.fr/event/culte-231/
LOCATION:Temple de Clamart et en ligne\, 43 rue du Moulin de Pierre\, CLAMART\, 92140\, France
CATEGORIES:agenda,Culte
END:VEVENT
END:VCALENDAR