BEGIN:VCALENDAR
VERSION:2.0
PRODID:-//Eglise Protestante Unie Clamart Issy Les Moulineaux Meudon - ECPv5.3.1.1//NONSGML v1.0//EN
CALSCALE:GREGORIAN
METHOD:PUBLISH
X-WR-CALNAME:Eglise Protestante Unie Clamart Issy Les Moulineaux Meudon
X-ORIGINAL-URL:https://epu-cim.fr
X-WR-CALDESC:évènements pour Eglise Protestante Unie Clamart Issy Les Moulineaux Meudon
BEGIN:VTIMEZONE
TZID:Europe/Paris
BEGIN:DAYLIGHT
TZOFFSETFROM:+0100
TZOFFSETTO:+0200
TZNAME:CEST
DTSTART:20250330T010000
END:DAYLIGHT
BEGIN:STANDARD
TZOFFSETFROM:+0200
TZOFFSETTO:+0100
TZNAME:CET
DTSTART:20251026T010000
END:STANDARD
END:VTIMEZONE
BEGIN:VEVENT
DTSTART;TZID=Europe/Paris:20250525T103000
DTEND;TZID=Europe/Paris:20250525T120000
DTSTAMP:20260422T082343
CREATED:20231111T124536Z
LAST-MODIFIED:20240903T183008Z
UID:8859-1748169000-1748174400@epu-cim.fr
SUMMARY:PréKT
DESCRIPTION:Le PréKT concerne les enfants entrant en 6ème et se déroule sur deux ans. \nLe thème retenu cette année est « Notre terre extraordinaire ».
URL:https://epu-cim.fr/event/prekt-17/
LOCATION:EPI\, 18 rue Marceau\, Issy-les-Moulineaux\, 92130\, France
CATEGORIES:agenda,Catéchèse,KT
END:VEVENT
END:VCALENDAR