BEGIN:VCALENDAR
VERSION:2.0
PRODID:-//Eglise Protestante Unie Clamart Issy Les Moulineaux Meudon - ECPv5.3.1.1//NONSGML v1.0//EN
CALSCALE:GREGORIAN
METHOD:PUBLISH
X-WR-CALNAME:Eglise Protestante Unie Clamart Issy Les Moulineaux Meudon
X-ORIGINAL-URL:https://epu-cim.fr
X-WR-CALDESC:évènements pour Eglise Protestante Unie Clamart Issy Les Moulineaux Meudon
BEGIN:VTIMEZONE
TZID:Europe/Paris
BEGIN:DAYLIGHT
TZOFFSETFROM:+0100
TZOFFSETTO:+0200
TZNAME:CEST
DTSTART:20250330T010000
END:DAYLIGHT
BEGIN:STANDARD
TZOFFSETFROM:+0200
TZOFFSETTO:+0100
TZNAME:CET
DTSTART:20251026T010000
END:STANDARD
END:VTIMEZONE
BEGIN:VEVENT
DTSTART;TZID=Europe/Paris:20251224T190000
DTEND;TZID=Europe/Paris:20251224T200000
DTSTAMP:20260425T040801
CREATED:20251211T201131Z
LAST-MODIFIED:20251211T212302Z
UID:7532-1766602800-1766606400@epu-cim.fr
SUMMARY:Veillée de Noël
DESCRIPTION:Voici l’heure de notre veillée de Noël au temple de Clamart. Venez avec vos amis et/ou vos voisins !
URL:https://epu-cim.fr/event/veillee-de-noel-fin-de-la-caravane-de-lavent/
LOCATION:Temple de Clamart\, 43 rue du moulin de Pierre\, Clamart\, 92140
CATEGORIES:agenda,Les Grands Rendez-Vous
END:VEVENT
END:VCALENDAR