BEGIN:VCALENDAR
VERSION:2.0
PRODID:-//Eglise Protestante Unie Clamart Issy Les Moulineaux Meudon - ECPv5.3.1.1//NONSGML v1.0//EN
CALSCALE:GREGORIAN
METHOD:PUBLISH
X-WR-CALNAME:Eglise Protestante Unie Clamart Issy Les Moulineaux Meudon
X-ORIGINAL-URL:https://epu-cim.fr
X-WR-CALDESC:évènements pour Eglise Protestante Unie Clamart Issy Les Moulineaux Meudon
BEGIN:VTIMEZONE
TZID:Europe/Paris
BEGIN:DAYLIGHT
TZOFFSETFROM:+0100
TZOFFSETTO:+0200
TZNAME:CEST
DTSTART:20220327T010000
END:DAYLIGHT
BEGIN:STANDARD
TZOFFSETFROM:+0200
TZOFFSETTO:+0100
TZNAME:CET
DTSTART:20221030T010000
END:STANDARD
END:VTIMEZONE
BEGIN:VEVENT
DTSTART;TZID=Europe/Paris:20220916T193000
DTEND;TZID=Europe/Paris:20220916T203000
DTSTAMP:20260424T153527
CREATED:20220903T123901Z
LAST-MODIFIED:20220909T152148Z
UID:7177-1663356600-1663360200@epu-cim.fr
SUMMARY:Louanges et prières
DESCRIPTION:Avec Claude et Jean-René\, venez louer le Seigneur. Groupe œcuménique ouvert à toutes et tous. Les instruments sont les bienvenus.
URL:https://epu-cim.fr/event/louanges-et-prieres-21/
LOCATION:Temple d’Issy\, 18 rue Marceau\, Issy les Moulineaux\, 92130\, France
CATEGORIES:Louanges et Prières
END:VEVENT
END:VCALENDAR