BEGIN:VCALENDAR
VERSION:2.0
PRODID:-//Eglise Protestante Unie Clamart Issy Les Moulineaux Meudon - ECPv5.3.1.1//NONSGML v1.0//EN
CALSCALE:GREGORIAN
METHOD:PUBLISH
X-WR-CALNAME:Eglise Protestante Unie Clamart Issy Les Moulineaux Meudon
X-ORIGINAL-URL:https://epu-cim.fr
X-WR-CALDESC:évènements pour Eglise Protestante Unie Clamart Issy Les Moulineaux Meudon
BEGIN:VTIMEZONE
TZID:Europe/Paris
BEGIN:DAYLIGHT
TZOFFSETFROM:+0100
TZOFFSETTO:+0200
TZNAME:CEST
DTSTART:20240331T010000
END:DAYLIGHT
BEGIN:STANDARD
TZOFFSETFROM:+0200
TZOFFSETTO:+0100
TZNAME:CET
DTSTART:20241027T010000
END:STANDARD
END:VTIMEZONE
BEGIN:VEVENT
DTSTART;TZID=Europe/Paris:20240818T103000
DTEND;TZID=Europe/Paris:20240818T114500
DTSTAMP:20260425T054335
CREATED:20231111T134110Z
LAST-MODIFIED:20240709T195512Z
UID:8930-1723977000-1723981500@epu-cim.fr
SUMMARY:Culte
DESCRIPTION:Le culte sera présidé par Sophie Jundt.
URL:https://epu-cim.fr/event/culte-202/
LOCATION:Temple de Clamart\, 43 rue du moulin de Pierre\, Clamart\, 92140
CATEGORIES:agenda,Culte
END:VEVENT
END:VCALENDAR