BEGIN:VCALENDAR
VERSION:2.0
PRODID:-//Eglise Protestante Unie Clamart Issy Les Moulineaux Meudon - ECPv5.3.1.1//NONSGML v1.0//EN
CALSCALE:GREGORIAN
METHOD:PUBLISH
X-WR-CALNAME:Eglise Protestante Unie Clamart Issy Les Moulineaux Meudon
X-ORIGINAL-URL:https://epu-cim.fr
X-WR-CALDESC:évènements pour Eglise Protestante Unie Clamart Issy Les Moulineaux Meudon
BEGIN:VTIMEZONE
TZID:Europe/Paris
BEGIN:DAYLIGHT
TZOFFSETFROM:+0100
TZOFFSETTO:+0200
TZNAME:CEST
DTSTART:20250330T010000
END:DAYLIGHT
BEGIN:STANDARD
TZOFFSETFROM:+0200
TZOFFSETTO:+0100
TZNAME:CET
DTSTART:20251026T010000
END:STANDARD
END:VTIMEZONE
BEGIN:VEVENT
DTSTART;TZID=Europe/Paris:20251212T200000
DTEND;TZID=Europe/Paris:20251212T204500
DTSTAMP:20260425T020848
CREATED:20251211T200452Z
LAST-MODIFIED:20251211T211746Z
UID:7530-1765569600-1765572300@epu-cim.fr
SUMMARY:Caravane de l'avent
DESCRIPTION:Le conseil presbytéral a décidé de faire évoluer notre caravane de l’avent en stations de l’avent dans nos deux lieux de culte.\nEn effet\,  ces rencontres auront lieu les 4 vendredis de l’avent de 20h00-20h45.\nCes temps de méditation seront animés par quatre groupes de notre communauté.\n\nAinsi :\n     – Vendredi 28 novembre\, Temple de Clamart\, Esaie 40\,1-11. Station animée par le CP\n    – Vendredi 5 décembre\, Temple d’Issy-les-Moulineaux\,  Luc 1\,26-38\, Station animée par EPPHATA.\n    – Vendredi 12 décembre\,  Temple de Clamart\,  Michee 5\,1-5\, Station animée par Le Groupe des catéchètes.\n    – Vendredi 19 décembre\, Temple d’Issy-les-Moulineaux\, Luc 1\, 46-56\, Station animée par le Groupe Louange et Prière.
URL:https://epu-cim.fr/event/caravane-de-lavent-6/
LOCATION:Temple de Clamart\, 43 rue du moulin de Pierre\, Clamart\, 92140
CATEGORIES:agenda,Les Grands Rendez-Vous
END:VEVENT
END:VCALENDAR