BEGIN:VCALENDAR
VERSION:2.0
PRODID:-//Eglise Protestante Unie Clamart Issy Les Moulineaux Meudon - ECPv5.3.1.1//NONSGML v1.0//EN
CALSCALE:GREGORIAN
METHOD:PUBLISH
X-WR-CALNAME:Eglise Protestante Unie Clamart Issy Les Moulineaux Meudon
X-ORIGINAL-URL:https://epu-cim.fr
X-WR-CALDESC:évènements pour Eglise Protestante Unie Clamart Issy Les Moulineaux Meudon
BEGIN:VTIMEZONE
TZID:Europe/Paris
BEGIN:DAYLIGHT
TZOFFSETFROM:+0100
TZOFFSETTO:+0200
TZNAME:CEST
DTSTART:20260329T010000
END:DAYLIGHT
BEGIN:STANDARD
TZOFFSETFROM:+0200
TZOFFSETTO:+0100
TZNAME:CET
DTSTART:20261025T010000
END:STANDARD
END:VTIMEZONE
BEGIN:VEVENT
DTSTART;TZID=Europe/Paris:20260210T143000
DTEND;TZID=Europe/Paris:20260210T160000
DTSTAMP:20260425T200836
CREATED:20250901T112052Z
LAST-MODIFIED:20250919T201845Z
UID:7292-1770733800-1770739200@epu-cim.fr
SUMMARY:Aux Sources de la Foi
DESCRIPTION:Le groupe ‘’Aux Sources de la Foi’’ reprend ses rencontres mensuelles au temple de Clamart. \nNous avons choisi de lire le livre d’Anne SOUPA « Douze femmes dans la vie de Jésus ». \nNos rencontres auront lieu tous les 2ième mardi du mois de 14 H 30 à 16 H\, sauf exception. \nLes dates retenues sont les suivantes : 14 octobre ; 18 novembre ; 9 décembre ; 13 janvier ; 10 février ; 10 mars ; 14 avril ; 12 mai et 9 juin. \nPour toute information complémentaire\, vous pouvez vous adresser au pasteur Amos Ngoua Mouri ou à Louis Peterschmitt;
URL:https://epu-cim.fr/event/aux-sources-de-la-foi-22/
LOCATION:La Fraternité\, 43 rue du Moulin de Pierre\, CLAMART\, 92140\, France
CATEGORIES:agenda,Aux Sources de la foi
END:VEVENT
END:VCALENDAR